BEGIN:VCALENDAR
VERSION:2.0
PRODID:-//eventon.com NONSGML v1.0//EN
CALSCALE:GREGORIAN
METHOD:PUBLISH
BEGIN:VEVENT
UID:69e5898cb54a7
DTSTAMP:20260420T020356Z
DTSTART:20261205T230000Z
DTEND:20261205T180000Z
LOCATION:Graciosa Country Clube Av. Munhoz da Rocha\,  1146 - Cabral\,  Curitiba - PR
SUMMARY:Festa 15 Anos Valentina
DESCRIPTION:CONTRATO ASSINADO RESP GUI\nhttps://adm.nizogomide.com.br/blog/
 events/festa-15-anos-valentina-4/
URL:https://adm.nizogomide.com.br/blog/events/festa-15-anos-valentina-4/
END:VEVENT
END:VCALENDAR