BEGIN:VCALENDAR
VERSION:2.0
PRODID:-//eventon.com NONSGML v1.0//EN
CALSCALE:GREGORIAN
METHOD:PUBLISH
BEGIN:VEVENT
UID:69e589e30f599
DTSTAMP:20260420T020523Z
DTSTART:20260919T130000Z
DTEND:20260919T130000Z
LOCATION:Nuvem de Côco Buffet  R. Paulo Gorski\,  1740\,  Curitiba - PR
SUMMARY:CASAMENTO LAURA E RODRIGO
DESCRIPTION:CASAMENTO LAURA E RODRIGO\nhttps://adm.nizogomide.com.br/blog/e
 vents/casamento-laura-e-rodrigo/
URL:https://adm.nizogomide.com.br/blog/events/casamento-laura-e-rodrigo/
END:VEVENT
END:VCALENDAR