BEGIN:VCALENDAR
VERSION:2.0
PRODID:-//eventon.com NONSGML v1.0//EN
CALSCALE:GREGORIAN
METHOD:PUBLISH
BEGIN:VEVENT
UID:69e589c8799ec
DTSTAMP:20260420T020456Z
DTSTART:20260912T210000Z
DTEND:20260913T025900Z
LOCATION:Klaine Garden Lounge R. Justo Manfron\,  1431 - Santa Felicidade\,  Curitiba - PR
SUMMARY:Casamento Thais e Leonardo
DESCRIPTION:CONTRATO ASSINADO RESP TECA\nhttps://adm.nizogomide.com.br/blog
 /events/casamento-thais-e-leonardo/
URL:https://adm.nizogomide.com.br/blog/events/casamento-thais-e-leonardo/
END:VEVENT
END:VCALENDAR