BEGIN:VCALENDAR
VERSION:2.0
PRODID:-//eventon.com NONSGML v1.0//EN
CALSCALE:GREGORIAN
METHOD:PUBLISH
BEGIN:VEVENT
UID:69e585106759f
DTSTAMP:20260420T014448Z
DTSTART:20261128T223000Z
DTEND:20261129T020000Z
LOCATION:Klaine Garden Lounge R. Justo Manfron\,  1431 - Santa Felicidade\,  Curitiba - PR
SUMMARY:CASAMENTO GIULIA E GUSTAVO
DESCRIPTION:Resp. Grazi Indicação Bernardo&nbsp; Noivos viram apresentaç
 ão do Bernardo no shopping&nbsp;\nhttps://adm.nizogomide.com.br/blog/event
 s/casamento-giulia-e-gustavo-2/
URL:https://adm.nizogomide.com.br/blog/events/casamento-giulia-e-gustavo-2/
END:VEVENT
END:VCALENDAR