BEGIN:VCALENDAR
VERSION:2.0
PRODID:-//eventon.com NONSGML v1.0//EN
CALSCALE:GREGORIAN
METHOD:PUBLISH
BEGIN:VEVENT
UID:69e57ac3caedc
DTSTAMP:20260420T010051Z
DTSTART:20260402T220000Z
DTEND:20260403T010000Z
LOCATION:CLUBE CURITIBANO - SALAO CID
SUMMARY:ANIVERSÁRIO 70 ANOS AFRANIO
DESCRIPTION:Resp Grazi  90 pax Cliente quer mesma banda do Jazz Room. Ser
 : Caio\,  Boldrini\,  Leandro e Reinaldo\nhttps://adm.nizogomide.com.br/bl
 og/events/aniversario-70-anos-afranio/
URL:https://adm.nizogomide.com.br/blog/events/aniversario-70-anos-afranio/
END:VEVENT
END:VCALENDAR