BEGIN:VCALENDAR
VERSION:2.0
PRODID:-//eventon.com NONSGML v1.0//EN
CALSCALE:GREGORIAN
METHOD:PUBLISH
BEGIN:VEVENT
UID:69e5796d6b19b
DTSTAMP:20260420T005509Z
DTSTART:20270320T220000Z
DTEND:20270321T025900Z
LOCATION:
SUMMARY:Casamento Paola e Leonardo
DESCRIPTION:RESP NIZO FILHA TINA GABRIEL\nhttps://adm.nizogomide.com.br/blo
 g/events/casamento-paola-e-leonardo/
URL:https://adm.nizogomide.com.br/blog/events/casamento-paola-e-leonardo/
END:VEVENT
END:VCALENDAR