BEGIN:VCALENDAR
VERSION:2.0
PRODID:-//eventon.com NONSGML v1.0//EN
CALSCALE:GREGORIAN
METHOD:PUBLISH
BEGIN:VEVENT
UID:69e578a6a019c
DTSTAMP:20260420T005150Z
DTSTART:20261009T210000Z
DTEND:20261009T140000Z
LOCATION:
SUMMARY:Festa Aniversário Ana Carolina Scocco
DESCRIPTION:PRE RESERVA&nbsp; LOCAL A DEFINIR&nbsp; Oi Nizo\,  como vai? An
 a Carolina Scocco aqui. Provável que vc não lembre de mim\,  mas tocaste 
 no meu casamento dia 09/05/2009 no Central Hall.&nbsp; Na recepção oferec
 emos milkshake do Bobs para os convidados. Estamos morando em Porto Alegre.
  E eu farei uma festa pequena[..]\nhttps://adm.nizogomide.com.br/blog/event
 s/festa-aniversario-ana-carolina-scocco/
URL:https://adm.nizogomide.com.br/blog/events/festa-aniversario-ana-carolina-scocco/
END:VEVENT
END:VCALENDAR