BEGIN:VCALENDAR
VERSION:2.0
PRODID:-//eventon.com NONSGML v1.0//EN
CALSCALE:GREGORIAN
METHOD:PUBLISH
BEGIN:VEVENT
UID:69e582eeb7368
DTSTAMP:20260420T013542Z
DTSTART:20260418T220000Z
DTEND:20260419T025900Z
LOCATION:SPOT 105 Ernesto Durigan\,  105 - Santa Felicidade
SUMMARY:Casamento Gabriela e Thiago
DESCRIPTION:CONTRATO ASSINADO RESP NIZO\nhttps://adm.nizogomide.com.br/blog
 /events/casamento-gabriela-e-thiago/
URL:https://adm.nizogomide.com.br/blog/events/casamento-gabriela-e-thiago/
END:VEVENT
END:VCALENDAR