BEGIN:VCALENDAR
VERSION:2.0
PRODID:-//eventon.com NONSGML v1.0//EN
CALSCALE:GREGORIAN
METHOD:PUBLISH
BEGIN:VEVENT
UID:69e57b95aae4b
DTSTAMP:20260420T010421Z
DTSTART:20271009T190000Z
DTEND:20271009T190000Z
LOCATION:Nuvem de Côco Buffet  R. Paulo Gorski\,  1740\,  Curitiba - PR
SUMMARY:CASAMENTO ISABELLA E MATHEUS
DESCRIPTION:200 PAX\nhttps://adm.nizogomide.com.br/blog/events/casamento-is
 abella-e-matheus-2/
URL:https://adm.nizogomide.com.br/blog/events/casamento-isabella-e-matheus-2/
END:VEVENT
END:VCALENDAR