BEGIN:VCALENDAR
VERSION:2.0
PRODID:-//eventon.com NONSGML v1.0//EN
CALSCALE:GREGORIAN
METHOD:PUBLISH
BEGIN:VEVENT
UID:69e57fb44bb99
DTSTAMP:20260420T012156Z
DTSTART:20270918T180000Z
DTEND:20270918T180000Z
LOCATION:
SUMMARY:CASAMENTO LAYARA E MATHEUS
DESCRIPTION:BLUMENAU CERIMONIA E FESTA\nhttps://adm.nizogomide.com.br/blog/
 events/casamento-layara-e-matheus/
URL:https://adm.nizogomide.com.br/blog/events/casamento-layara-e-matheus/
END:VEVENT
END:VCALENDAR