BEGIN:VCALENDAR
VERSION:2.0
PRODID:-//eventon.com NONSGML v1.0//EN
CALSCALE:GREGORIAN
METHOD:PUBLISH
BEGIN:VEVENT
UID:69e58c916425e
DTSTAMP:20260420T021649Z
DTSTART:20260829T140000Z
DTEND:20260829T140000Z
LOCATION:Castelo do Batel Av. do Batel\,  1323 - Batel\,  Curitiba - PR\, 
SUMMARY:CASAMENTO GABRIELLAE WILLIAM
DESCRIPTION:CONTRTAO ASSINADO Resp. Grazi Possível cerimônia junto à rec
 epção\nhttps://adm.nizogomide.com.br/blog/events/casamento-gabriella-luvi
 son/
URL:https://adm.nizogomide.com.br/blog/events/casamento-gabriella-luvison/
END:VEVENT
END:VCALENDAR