BEGIN:VCALENDAR
VERSION:2.0
PRODID:-//eventon.com NONSGML v1.0//EN
CALSCALE:GREGORIAN
METHOD:PUBLISH
BEGIN:VEVENT
UID:69e57ad81d117
DTSTAMP:20260420T010112Z
DTSTART:20261121T180000Z
DTEND:20261121T180000Z
LOCATION:Klaine Garden Lounge R. Justo Manfron\,  1431 - Santa Felicidade\,  Curitiba - PR
SUMMARY:CASAMENTO GIULIA E PEDRO
DESCRIPTION:170 PAX\nhttps://adm.nizogomide.com.br/blog/events/casamento-gi
 ulia-e-pedro/
URL:https://adm.nizogomide.com.br/blog/events/casamento-giulia-e-pedro/
END:VEVENT
END:VCALENDAR