BEGIN:VCALENDAR
VERSION:2.0
PRODID:-//eventon.com NONSGML v1.0//EN
CALSCALE:GREGORIAN
METHOD:PUBLISH
BEGIN:VEVENT
UID:69e57b9421b0a
DTSTAMP:20260420T010420Z
DTSTART:20260607T010000Z
DTEND:20260607T025900Z
LOCATION:Restaurante Tartine
SUMMARY:CASAMENTO JANAINA E LUCAS
DESCRIPTION:Resp. Grazi 70 pax\nhttps://adm.nizogomide.com.br/blog/events/c
 asamento-janaina-e-lucas-2/
URL:https://adm.nizogomide.com.br/blog/events/casamento-janaina-e-lucas-2/
END:VEVENT
END:VCALENDAR