BEGIN:VCALENDAR
VERSION:2.0
PRODID:-//eventon.com NONSGML v1.0//EN
CALSCALE:GREGORIAN
METHOD:PUBLISH
BEGIN:VEVENT
UID:69e5809d8350b
DTSTAMP:20260420T012549Z
DTSTART:20260418T190000Z
DTEND:20260418T230000Z
LOCATION:Castelo Reale Colombo-PR
SUMMARY:CASAMENTO ANDRESSA E LUIZ
DESCRIPTION:Resp. Grazi Indicação Bernardo Cerimônia e Recepção 200 pa
 x\nhttps://adm.nizogomide.com.br/blog/events/casamento-andressa-e-luiz/
URL:https://adm.nizogomide.com.br/blog/events/casamento-andressa-e-luiz/
END:VEVENT
END:VCALENDAR