BEGIN:VCALENDAR
VERSION:2.0
PRODID:-//eventon.com NONSGML v1.0//EN
CALSCALE:GREGORIAN
METHOD:PUBLISH
BEGIN:VEVENT
UID:69e57fd6e1e33
DTSTAMP:20260420T012230Z
DTSTART:20260808T120000Z
DTEND:20260809T025900Z
LOCATION:HOTEL LAS BOUTIQUE FOZ DO IGUAÇU\,  FOZ DO IGUAÇU\,  PARANA\,  BRASIL
SUMMARY:CASAMENTO FLAVIA E  JAD
DESCRIPTION:FECHADO VERBALMENTE 280 PAX RESP NIZO\nhttps://adm.nizogomide.c
 om.br/blog/events/casamento-flavia-e-jad/
URL:https://adm.nizogomide.com.br/blog/events/casamento-flavia-e-jad/
END:VEVENT
END:VCALENDAR