BEGIN:VCALENDAR
VERSION:2.0
PRODID:-//eventon.com NONSGML v1.0//EN
CALSCALE:GREGORIAN
METHOD:PUBLISH
BEGIN:VEVENT
UID:69e57f1fb3672
DTSTAMP:20260420T011927Z
DTSTART:20260530T180000Z
DTEND:20260530T180000Z
LOCATION:
SUMMARY:CONFRATERNIZAÇÃO SANTO FOLE - PAULINHO PEZAK
DESCRIPTION:Resp. Grazi Indicação Bernardo Irati &#8211; PR\nhttps://adm.
 nizogomide.com.br/blog/events/confraternizacao-santo-fole-paulinho-pezak/
URL:https://adm.nizogomide.com.br/blog/events/confraternizacao-santo-fole-paulinho-pezak/
END:VEVENT
END:VCALENDAR