BEGIN:VCALENDAR
VERSION:2.0
PRODID:-//eventon.com NONSGML v1.0//EN
CALSCALE:GREGORIAN
METHOD:PUBLISH
BEGIN:VEVENT
UID:69e57d3d122b7
DTSTAMP:20260420T011125Z
DTSTART:20260509T140000Z
DTEND:20260510T025900Z
LOCATION:PICO DO NASCER MANGUEIRINHA - PR
SUMMARY:CASAMENTO LAUREN E JOAO
DESCRIPTION:CASAMENTO LAUREN E JOAO\nhttps://adm.nizogomide.com.br/blog/eve
 nts/casamento-lauren-e-joao/
URL:https://adm.nizogomide.com.br/blog/events/casamento-lauren-e-joao/
END:VEVENT
END:VCALENDAR