BEGIN:VCALENDAR
VERSION:2.0
PRODID:-//eventon.com NONSGML v1.0//EN
CALSCALE:GREGORIAN
METHOD:PUBLISH
BEGIN:VEVENT
UID:69e579dbae5fa
DTSTAMP:20260420T005659Z
DTSTART:20260530T140000Z
DTEND:20260530T140000Z
LOCATION:MIST EVENTOS
SUMMARY:FESTA 15 ANOS CAROLINA
DESCRIPTION:50 PAX MIST JUNIOR\nhttps://adm.nizogomide.com.br/blog/events/f
 esta-15-anos-carolina/
URL:https://adm.nizogomide.com.br/blog/events/festa-15-anos-carolina/
END:VEVENT
END:VCALENDAR