BEGIN:VCALENDAR
VERSION:2.0
PRODID:-//eventon.com NONSGML v1.0//EN
CALSCALE:GREGORIAN
METHOD:PUBLISH
BEGIN:VEVENT
UID:69e5809ebc562
DTSTAMP:20260420T012550Z
DTSTART:20261121T220000Z
DTEND:20261122T025900Z
LOCATION:Graciosa Golf Rua Clóvis Beviláqua\,  279
SUMMARY:CASAMENTO CATHARINE E DIEGO
DESCRIPTION:CONTRATO ASSINADO 140 PAX CRISTINA\nhttps://adm.nizogomide.com.
 br/blog/events/casamento-catharine-e-diego/
URL:https://adm.nizogomide.com.br/blog/events/casamento-catharine-e-diego/
END:VEVENT
END:VCALENDAR