BEGIN:VCALENDAR
VERSION:2.0
PRODID:-//eventon.com NONSGML v1.0//EN
CALSCALE:GREGORIAN
METHOD:PUBLISH
BEGIN:VEVENT
UID:69e584e456746
DTSTAMP:20260420T014404Z
DTSTART:20260425T110000Z
DTEND:20260425T190000Z
LOCATION:
SUMMARY:Festa Aniversario Bruna
DESCRIPTION:FECHADO VERBALMENTE RESP NIZO FRANCISCO BELTRÃO\nhttps://adm.n
 izogomide.com.br/blog/events/festa-aniversario-bruna-2/
URL:https://adm.nizogomide.com.br/blog/events/festa-aniversario-bruna-2/
END:VEVENT
END:VCALENDAR