BEGIN:VCALENDAR
VERSION:2.0
PRODID:-//eventon.com NONSGML v1.0//EN
CALSCALE:GREGORIAN
METHOD:PUBLISH
BEGIN:VEVENT
UID:69e5844fd336b
DTSTAMP:20260420T014135Z
DTSTART:20260626T230000Z
DTEND:20260626T140000Z
LOCATION:Iate Clube Joinville Joinville
SUMMARY:Casamento para Fernanda Maruska
DESCRIPTION:PRÉ RESERVA RESP NIZO\nhttps://adm.nizogomide.com.br/blog/even
 ts/casamento-para-fernanda-maruska/
URL:https://adm.nizogomide.com.br/blog/events/casamento-para-fernanda-maruska/
END:VEVENT
END:VCALENDAR