BEGIN:VCALENDAR
VERSION:2.0
PRODID:-//eventon.com NONSGML v1.0//EN
CALSCALE:GREGORIAN
METHOD:PUBLISH
BEGIN:VEVENT
UID:69e5809f41cd7
DTSTAMP:20260420T012551Z
DTSTART:20260627T130000Z
DTEND:20260627T130000Z
LOCATION:Castelo do Batel Av. do Batel\,  1323 - Batel\,  Curitiba - PR\, 
SUMMARY:FESTA 15 ANOS MARINA
DESCRIPTION:200 PAX\nhttps://adm.nizogomide.com.br/blog/events/festa-15-ano
 s-marina-3/
URL:https://adm.nizogomide.com.br/blog/events/festa-15-anos-marina-3/
END:VEVENT
END:VCALENDAR