BEGIN:VCALENDAR
VERSION:2.0
PRODID:-//eventon.com NONSGML v1.0//EN
CALSCALE:GREGORIAN
METHOD:PUBLISH
BEGIN:VEVENT
UID:69e58e5b23f91
DTSTAMP:20260420T022427Z
DTSTART:20260829T220000Z
DTEND:20260830T025900Z
LOCATION:Graciosa Country Clube Av. Munhoz da Rocha\,  1146 - Cabral\,  Curitiba - PR
SUMMARY:Festa 15 Anos Sophia
DESCRIPTION:CONTRATO ASSINADO RESP NIZO\nhttps://adm.nizogomide.com.br/blog
 /events/festa-15-anos-sophia-3/
URL:https://adm.nizogomide.com.br/blog/events/festa-15-anos-sophia-3/
END:VEVENT
END:VCALENDAR