BEGIN:VCALENDAR
VERSION:2.0
PRODID:-//eventon.com NONSGML v1.0//EN
CALSCALE:GREGORIAN
METHOD:PUBLISH
BEGIN:VEVENT
UID:69e587839be1a
DTSTAMP:20260420T015515Z
DTSTART:20260725T160000Z
DTEND:20260725T190000Z
LOCATION:
SUMMARY:CASAMENTO BRUNA E CARLOS
DESCRIPTION:Resp. Grazi 120 pax Bernardo para CerimÃ´nia e RecepÃ§Ã£o/AlmoÃ
 §o EndereÃ§o local: rua Hermes Fontes 778 BatelÂ \nhttps://adm.nizogomide.c
 om.br/blog/events/casamento-bruna-e-carlos/
URL:https://adm.nizogomide.com.br/blog/events/casamento-bruna-e-carlos/
END:VEVENT
END:VCALENDAR