BEGIN:VCALENDAR
VERSION:2.0
PRODID:-//eventon.com NONSGML v1.0//EN
CALSCALE:GREGORIAN
METHOD:PUBLISH
BEGIN:VEVENT
UID:69e579db2d4f6
DTSTAMP:20260420T005659Z
DTSTART:20261212T230000Z
DTEND:20261213T025900Z
LOCATION:SPOT 105 Ernesto Durigan\,  105 - Santa Felicidade
SUMMARY:Festa 15 Anos Sofia
DESCRIPTION:RESP TECA\nhttps://adm.nizogomide.com.br/blog/events/festa-15-a
 nos-sofia/
URL:https://adm.nizogomide.com.br/blog/events/festa-15-anos-sofia/
END:VEVENT
END:VCALENDAR