BEGIN:VCALENDAR
VERSION:2.0
PRODID:-//eventon.com NONSGML v1.0//EN
CALSCALE:GREGORIAN
METHOD:PUBLISH
BEGIN:VEVENT
UID:69e5796ddd7d2
DTSTAMP:20260420T005509Z
DTSTART:20260905T200000Z
DTEND:20260906T025900Z
LOCATION:Clube Curitibano Sede Concórdia R Presidente Carlos Cavalcanti\,  815 - São Francisco Curitiba\,  PR | CE
SUMMARY:Casamento Fernanda e Heitor
DESCRIPTION:CONTRATO ASSINADO RESP TECA\nhttps://adm.nizogomide.com.br/blog
 /events/casamento-fernanda-e-heitor/
URL:https://adm.nizogomide.com.br/blog/events/casamento-fernanda-e-heitor/
END:VEVENT
END:VCALENDAR