BEGIN:VCALENDAR
VERSION:2.0
PRODID:-//eventon.com NONSGML v1.0//EN
CALSCALE:GREGORIAN
METHOD:PUBLISH
BEGIN:VEVENT
UID:69e58313e2b4c
DTSTAMP:20260420T013619Z
DTSTART:20261024T180000Z
DTEND:20261025T025900Z
LOCATION:Klaine Garden Lounge R. Justo Manfron\,  1431 - Santa Felicidade\,  Curitiba - PR
SUMMARY:CASAMENTO DAIARA E LUCAS
DESCRIPTION:CASAMENTO DAIARA E LUCAS\nhttps://adm.nizogomide.com.br/blog/ev
 ents/casamento-daiara-e-lucas/
URL:https://adm.nizogomide.com.br/blog/events/casamento-daiara-e-lucas/
END:VEVENT
END:VCALENDAR