BEGIN:VCALENDAR
VERSION:2.0
PRODID:-//eventon.com NONSGML v1.0//EN
CALSCALE:GREGORIAN
METHOD:PUBLISH
BEGIN:VEVENT
UID:69e57f1fb3671
DTSTAMP:20260420T011927Z
DTSTART:20260606T150000Z
DTEND:20260607T025900Z
LOCATION:
SUMMARY:Festa 70 Anos Eliseu
DESCRIPTION:PRÉ RESERVA RESP TECA ESPACO &#8211; ENERGIA DA MATA GABI DUE 
 DEE\nhttps://adm.nizogomide.com.br/blog/events/festa-70-anos-eliseu/
URL:https://adm.nizogomide.com.br/blog/events/festa-70-anos-eliseu/
END:VEVENT
END:VCALENDAR