BEGIN:VCALENDAR
VERSION:2.0
PRODID:-//eventon.com NONSGML v1.0//EN
CALSCALE:GREGORIAN
METHOD:PUBLISH
BEGIN:VEVENT
UID:69e57d31e50dd
DTSTAMP:20260420T011113Z
DTSTART:20260815T180000Z
DTEND:20260816T025900Z
LOCATION:Praia do Rosa BR 101 - Ibiraquera - SC
SUMMARY:Casamento Nathaly e Andres
DESCRIPTION:CONTRATO ASSINADO RESP NIZO\nhttps://adm.nizogomide.com.br/blog
 /events/casamento-nathaly-e-andres/
URL:https://adm.nizogomide.com.br/blog/events/casamento-nathaly-e-andres/
END:VEVENT
END:VCALENDAR