BEGIN:VCALENDAR
VERSION:2.0
PRODID:-//eventon.com NONSGML v1.0//EN
CALSCALE:GREGORIAN
METHOD:PUBLISH
BEGIN:VEVENT
UID:69e584e4d0fa5
DTSTAMP:20260420T014404Z
DTSTART:20260430T220000Z
DTEND:20260430T220000Z
LOCATION:Clube Curitibano Sede Concórdia R Presidente Carlos Cavalcanti\,  815 - São Francisco Curitiba\,  PR | CE
SUMMARY:FESTA 15 ANOS BELA
DESCRIPTION:180 PAX\nhttps://adm.nizogomide.com.br/blog/events/festa-15-ano
 s-bela/
URL:https://adm.nizogomide.com.br/blog/events/festa-15-anos-bela/
END:VEVENT
END:VCALENDAR