BEGIN:VCALENDAR
VERSION:2.0
PRODID:-//eventon.com NONSGML v1.0//EN
CALSCALE:GREGORIAN
METHOD:PUBLISH
BEGIN:VEVENT
UID:69e58bdf66762
DTSTAMP:20260420T021351Z
DTSTART:20261128T210000Z
DTEND:20261129T025900Z
LOCATION:Klaine Garden Lounge R. Justo Manfron\,  1431 - Santa Felicidade\,  Curitiba - PR
SUMMARY:CASAMENTO GIULIA E GUSTAVO
DESCRIPTION:CASAMENTO GIULIA E GUSTAVO\nhttps://adm.nizogomide.com.br/blog/
 events/casamento-giulia-e-gustavo/
URL:https://adm.nizogomide.com.br/blog/events/casamento-giulia-e-gustavo/
END:VEVENT
END:VCALENDAR