BEGIN:VCALENDAR
VERSION:2.0
PRODID:-//eventon.com NONSGML v1.0//EN
CALSCALE:GREGORIAN
METHOD:PUBLISH
BEGIN:VEVENT
UID:69e57ad925804
DTSTAMP:20260420T010113Z
DTSTART:20260626T140000Z
DTEND:20260627T025900Z
LOCATION:Graciosa Golf Rua Clóvis Beviláqua\,  279
SUMMARY:BODAS SISSI E ABELSON
DESCRIPTION:150 PAX\nhttps://adm.nizogomide.com.br/blog/events/bodas-sissi-
 e-abelson/
URL:https://adm.nizogomide.com.br/blog/events/bodas-sissi-e-abelson/
END:VEVENT
END:VCALENDAR