BEGIN:VCALENDAR
VERSION:2.0
PRODID:-//eventon.com NONSGML v1.0//EN
CALSCALE:GREGORIAN
METHOD:PUBLISH
BEGIN:VEVENT
UID:69e579dabab07
DTSTAMP:20260420T005658Z
DTSTART:20261120T170000Z
DTEND:20261121T170000Z
LOCATION:
SUMMARY:Otavio (ocupado)
DESCRIPTION:CONTRATO ASSINADO RESP OTAVIO\nhttps://adm.nizogomide.com.br/bl
 og/events/otavio-ocupado-23/
URL:https://adm.nizogomide.com.br/blog/events/otavio-ocupado-23/
END:VEVENT
END:VCALENDAR