BEGIN:VCALENDAR
VERSION:2.0
PRODID:-//eventon.com NONSGML v1.0//EN
CALSCALE:GREGORIAN
METHOD:PUBLISH
BEGIN:VEVENT
UID:69e578407cf85
DTSTAMP:20260420T005008Z
DTSTART:20260411T170000Z
DTEND:20260412T025900Z
LOCATION:
SUMMARY:Otavio (ocupado)
DESCRIPTION:CONTRATO ASSINADO RESP OTAVIO\nhttps://adm.nizogomide.com.br/bl
 og/events/otavio-ocupado-22/
URL:https://adm.nizogomide.com.br/blog/events/otavio-ocupado-22/
END:VEVENT
END:VCALENDAR