BEGIN:VCALENDAR
VERSION:2.0
PRODID:-//eventon.com NONSGML v1.0//EN
CALSCALE:GREGORIAN
METHOD:PUBLISH
BEGIN:VEVENT
UID:69e57fd8d8f84
DTSTAMP:20260420T012232Z
DTSTART:20260613T130000Z
DTEND:20260614T025900Z
LOCATION:
SUMMARY:Otavio (ocupado)
DESCRIPTION:CONTRATO ASSINADO RESP OTAVIO\nhttps://adm.nizogomide.com.br/bl
 og/events/otavio-ocupado-20/
URL:https://adm.nizogomide.com.br/blog/events/otavio-ocupado-20/
END:VEVENT
END:VCALENDAR