BEGIN:VCALENDAR
VERSION:2.0
PRODID:-//eventon.com NONSGML v1.0//EN
CALSCALE:GREGORIAN
METHOD:PUBLISH
BEGIN:VEVENT
UID:69e5825e1ef99
DTSTAMP:20260420T013318Z
DTSTART:20270714T220000Z
DTEND:20270715T025900Z
LOCATION:Graciosa Country Clube Av. Munhoz da Rocha\,  1146 - Cabral\,  Curitiba - PR
SUMMARY:Centenario GCC
DESCRIPTION:PRÉ RESERVA RESP NIZO\nhttps://adm.nizogomide.com.br/blog/even
 ts/centenario-gcc/
URL:https://adm.nizogomide.com.br/blog/events/centenario-gcc/
END:VEVENT
END:VCALENDAR