BEGIN:VCALENDAR
VERSION:2.0
PRODID:-//eventon.com NONSGML v1.0//EN
CALSCALE:GREGORIAN
METHOD:PUBLISH
BEGIN:VEVENT
UID:69e579dc3f497
DTSTAMP:20260420T005700Z
DTSTART:20260711T220000Z
DTEND:20260712T025900Z
LOCATION:Graciosa Country Clube Av. Munhoz da Rocha\,  1146 - Cabral\,  Curitiba - PR
SUMMARY:Baile Aniversário GCC
DESCRIPTION:PRÉ RESERVA RESP NIZO\nhttps://adm.nizogomide.com.br/blog/even
 ts/baile-aniversario-gcc/
URL:https://adm.nizogomide.com.br/blog/events/baile-aniversario-gcc/
END:VEVENT
END:VCALENDAR