BEGIN:VCALENDAR
VERSION:2.0
PRODID:-//eventon.com NONSGML v1.0//EN
CALSCALE:GREGORIAN
METHOD:PUBLISH
BEGIN:VEVENT
UID:69e589d4556c1
DTSTAMP:20260420T020508Z
DTSTART:20260613T095200Z
DTEND:20260614T025900Z
LOCATION:Graciosa Country Clube Av. Munhoz da Rocha\,  1146 - Cabral\,  Curitiba - PR
SUMMARY:Casamento Tati e Marcelo
DESCRIPTION:CONTRATO ASSINADO Noiva é filha Márcia e Paulo\nhttps://adm.n
 izogomide.com.br/blog/events/casamento-tati-e-marcelo/
URL:https://adm.nizogomide.com.br/blog/events/casamento-tati-e-marcelo/
END:VEVENT
END:VCALENDAR