BEGIN:VCALENDAR
VERSION:2.0
PRODID:-//eventon.com NONSGML v1.0//EN
CALSCALE:GREGORIAN
METHOD:PUBLISH
BEGIN:VEVENT
UID:69e57ac0e9f36
DTSTAMP:20260420T010048Z
DTSTART:20260424T220000Z
DTEND:20260424T220000Z
LOCATION:Graciosa Country Clube Av. Munhoz da Rocha\,  1146 - Cabral\,  Curitiba - PR
SUMMARY:CASAMENTO SAMIA E BRUNO
DESCRIPTION:RESP: NIZO\nhttps://adm.nizogomide.com.br/blog/events/casamento
 -samia-e-bruno/
URL:https://adm.nizogomide.com.br/blog/events/casamento-samia-e-bruno/
END:VEVENT
END:VCALENDAR