BEGIN:VCALENDAR
VERSION:2.0
PRODID:-//eventon.com NONSGML v1.0//EN
CALSCALE:GREGORIAN
METHOD:PUBLISH
BEGIN:VEVENT
UID:69e57ac2b3dcc
DTSTAMP:20260420T010050Z
DTSTART:20260523T140000Z
DTEND:20260524T025900Z
LOCATION:Hipica BR116\,  6055\,  TARUMÃ
SUMMARY:CASAMENTO RAISSA E GUSTAVO
DESCRIPTION:CASAMENTO RAISSA E GUSTAVO\nhttps://adm.nizogomide.com.br/blog/
 events/casamento-raissa-e-gustavo/
URL:https://adm.nizogomide.com.br/blog/events/casamento-raissa-e-gustavo/
END:VEVENT
END:VCALENDAR