BEGIN:VCALENDAR
VERSION:2.0
PRODID:-//eventon.com NONSGML v1.0//EN
CALSCALE:GREGORIAN
METHOD:PUBLISH
BEGIN:VEVENT
UID:69e589e3ea503
DTSTAMP:20260420T020523Z
DTSTART:20260906T190000Z
DTEND:20260907T010000Z
LOCATION:Laggus Nautico
SUMMARY:CASAMENTO NICOLE E LUÍS
DESCRIPTION:Resp. Grazi Bernardo jantar cerimônia&nbsp;\nhttps://adm.nizog
 omide.com.br/blog/events/casamento-nicole-e-luis/
URL:https://adm.nizogomide.com.br/blog/events/casamento-nicole-e-luis/
END:VEVENT
END:VCALENDAR