BEGIN:VCALENDAR
VERSION:2.0
PRODID:-//eventon.com NONSGML v1.0//EN
CALSCALE:GREGORIAN
METHOD:PUBLISH
BEGIN:VEVENT
UID:69e57e23598c7
DTSTAMP:20260420T011515Z
DTSTART:20261003T200000Z
DTEND:20261004T025900Z
LOCATION:Graciosa Country Clube Av. Munhoz da Rocha\,  1146 - Cabral\,  Curitiba - PR
SUMMARY:CASAMENTO JULIA E MATHEUS
DESCRIPTION:CASAMENTO JULIA E MATHEUS\nhttps://adm.nizogomide.com.br/blog/e
 vents/casamento-julia-e-matheus/
URL:https://adm.nizogomide.com.br/blog/events/casamento-julia-e-matheus/
END:VEVENT
END:VCALENDAR