BEGIN:VCALENDAR
VERSION:2.0
PRODID:-//eventon.com NONSGML v1.0//EN
CALSCALE:GREGORIAN
METHOD:PUBLISH
BEGIN:VEVENT
UID:69e586f9651c3
DTSTAMP:20260420T015257Z
DTSTART:20261114T200000Z
DTEND:20261115T025900Z
LOCATION:Graciosa Country Clube Av. Munhoz da Rocha\,  1146 - Cabral\,  Curitiba - PR
SUMMARY:CASAMENTO LAURA E DIEGO
DESCRIPTION:CASAMENTO LAURA E DIEGO\nhttps://adm.nizogomide.com.br/blog/eve
 nts/casamento-laura-e-diego/
URL:https://adm.nizogomide.com.br/blog/events/casamento-laura-e-diego/
END:VEVENT
END:VCALENDAR