BEGIN:VCALENDAR
VERSION:2.0
PRODID:-//eventon.com NONSGML v1.0//EN
CALSCALE:GREGORIAN
METHOD:PUBLISH
BEGIN:VEVENT
UID:69e582ee25923
DTSTAMP:20260420T013542Z
DTSTART:20260808T180000Z
DTEND:20260808T180000Z
LOCATION:CHACARA LLAR CAMPINA GRANDE DO SUL
SUMMARY:CASAMENTO ALAIDE E THIAGO
DESCRIPTION:CASAMENTO ALAIDE E THIAGO\nhttps://adm.nizogomide.com.br/blog/e
 vents/casamento-alaide-e-thiago/
URL:https://adm.nizogomide.com.br/blog/events/casamento-alaide-e-thiago/
END:VEVENT
END:VCALENDAR