BEGIN:VCALENDAR
VERSION:2.0
PRODID:-//eventon.com NONSGML v1.0//EN
CALSCALE:GREGORIAN
METHOD:PUBLISH
BEGIN:VEVENT
UID:69e589e37235f
DTSTAMP:20260420T020523Z
DTSTART:20260425T220000Z
DTEND:20260426T010000Z
LOCATION:SPOT 105 Ernesto Durigan\,  105 - Santa Felicidade
SUMMARY:CASAMENTO MARI JUSVIAK E URIEL
DESCRIPTION:Jantar 2h30min Resp. Grazi\nhttps://adm.nizogomide.com.br/blog/
 events/casamento-mari-jusviak-e-uriel-3/
URL:https://adm.nizogomide.com.br/blog/events/casamento-mari-jusviak-e-uriel-3/
END:VEVENT
END:VCALENDAR