BEGIN:VCALENDAR
VERSION:2.0
PRODID:-//eventon.com NONSGML v1.0//EN
CALSCALE:GREGORIAN
METHOD:PUBLISH
BEGIN:VEVENT
UID:69e57d3c8c408
DTSTAMP:20260420T011124Z
DTSTART:20260420
DTEND:20260421
LOCATION:Indra Catering  Rua Dr. Reynaldo Machado\,  81 - Rebouças\,  Curitiba - PR
SUMMARY:CASAMENTO FILIPE E KALEO
DESCRIPTION:CASAMENTO FILIPE E KALEO\nhttps://adm.nizogomide.com.br/blog/ev
 ents/casamento-felipe-e-kaleo/
URL:https://adm.nizogomide.com.br/blog/events/casamento-felipe-e-kaleo/
END:VEVENT
END:VCALENDAR