BEGIN:VCALENDAR
VERSION:2.0
PRODID:-//eventon.com NONSGML v1.0//EN
CALSCALE:GREGORIAN
METHOD:PUBLISH
BEGIN:VEVENT
UID:69e57840d8df0
DTSTAMP:20260420T005008Z
DTSTART:20260905T190000Z
DTEND:20260905T190000Z
LOCATION:SITIO AGUAS DE MARCO SAO GOTARDO - MINAS GERAIS\,  SAO GOTARDO 38800-000
SUMMARY:CASAMENTO FERNANDA E CARLOS ROBERTO
DESCRIPTION:SITIO SITIO AGUAS DE MARCO Abaeté dos Venâncios\,  São Gotar
 do &#8211; MG\,  38800-000 MINAS GERAIS\nhttps://adm.nizogomide.com.br/blog
 /events/casamento-fernanda-e-carlos-roberto/
URL:https://adm.nizogomide.com.br/blog/events/casamento-fernanda-e-carlos-roberto/
END:VEVENT
END:VCALENDAR