BEGIN:VCALENDAR
VERSION:2.0
PRODID:-//eventon.com NONSGML v1.0//EN
CALSCALE:GREGORIAN
METHOD:PUBLISH
BEGIN:VEVENT
UID:69e58315ba54e
DTSTAMP:20260420T013621Z
DTSTART:20261017T210000Z
DTEND:20261018T000000Z
LOCATION:Clube Curitibano Sede Concórdia R Presidente Carlos Cavalcanti\,  815 - São Francisco Curitiba\,  PR | CE
SUMMARY:CASAMENTO GABRIELA E JOÃO (MÃE HELOÍSA)
DESCRIPTION:CONTRATO ASSINADO Resp. Grazi Indicação Bernardo\nhttps://adm
 .nizogomide.com.br/blog/events/casamento-joao-mae-heloisa/
URL:https://adm.nizogomide.com.br/blog/events/casamento-joao-mae-heloisa/
END:VEVENT
END:VCALENDAR