BEGIN:VCALENDAR
VERSION:2.0
PRODID:-//eventon.com NONSGML v1.0//EN
CALSCALE:GREGORIAN
METHOD:PUBLISH
BEGIN:VEVENT
UID:69e58eb869963
DTSTAMP:20260420T022600Z
DTSTART:20270424T130000Z
DTEND:20270425T025900Z
LOCATION:SPOT 105 Ernesto Durigan\,  105 - Santa Felicidade
SUMMARY:CASAMENTO ANNELISE E HENRIQUE
DESCRIPTION:CASAMENTO ANNELISE E HENRIQUE\nhttps://adm.nizogomide.com.br/bl
 og/events/casamento-annelise-e-henrique/
URL:https://adm.nizogomide.com.br/blog/events/casamento-annelise-e-henrique/
END:VEVENT
END:VCALENDAR