BEGIN:VCALENDAR
VERSION:2.0
PRODID:-//eventon.com NONSGML v1.0//EN
CALSCALE:GREGORIAN
METHOD:PUBLISH
BEGIN:VEVENT
UID:69e5851199f74
DTSTAMP:20260420T014449Z
DTSTART:20261121T140000Z
DTEND:20261121T140000Z
LOCATION:Stella Basso Boqueirao
SUMMARY:CASAMENTO LORHANY E GABRIEL
DESCRIPTION:TATIANE &#8211; MAE DO NOIVO\nhttps://adm.nizogomide.com.br/blo
 g/events/casamento-lorhany-e-gabriel/
URL:https://adm.nizogomide.com.br/blog/events/casamento-lorhany-e-gabriel/
END:VEVENT
END:VCALENDAR